BEGIN:VCALENDAR
VERSION:2.0
PRODID:-//Dee Jay&#039;s BBQ Ribs &amp; Grille - ECPv6.15.20//NONSGML v1.0//EN
CALSCALE:GREGORIAN
METHOD:PUBLISH
X-WR-CALNAME:Dee Jay&#039;s BBQ Ribs &amp; Grille
X-ORIGINAL-URL:https://deejaysfamousribs.com
X-WR-CALDESC:Events for Dee Jay&#039;s BBQ Ribs &amp; Grille
REFRESH-INTERVAL;VALUE=DURATION:PT1H
X-Robots-Tag:noindex
X-PUBLISHED-TTL:PT1H
BEGIN:VTIMEZONE
TZID:America/New_York
BEGIN:DAYLIGHT
TZOFFSETFROM:-0500
TZOFFSETTO:-0400
TZNAME:EDT
DTSTART:20250309T070000
END:DAYLIGHT
BEGIN:STANDARD
TZOFFSETFROM:-0400
TZOFFSETTO:-0500
TZNAME:EST
DTSTART:20251102T060000
END:STANDARD
BEGIN:DAYLIGHT
TZOFFSETFROM:-0500
TZOFFSETTO:-0400
TZNAME:EDT
DTSTART:20260308T070000
END:DAYLIGHT
BEGIN:STANDARD
TZOFFSETFROM:-0400
TZOFFSETTO:-0500
TZNAME:EST
DTSTART:20261101T060000
END:STANDARD
BEGIN:DAYLIGHT
TZOFFSETFROM:-0500
TZOFFSETTO:-0400
TZNAME:EDT
DTSTART:20270314T070000
END:DAYLIGHT
BEGIN:STANDARD
TZOFFSETFROM:-0400
TZOFFSETTO:-0500
TZNAME:EST
DTSTART:20271107T060000
END:STANDARD
END:VTIMEZONE
BEGIN:VEVENT
DTSTART;TZID=America/New_York:20260424T190000
DTEND;TZID=America/New_York:20260424T220000
DTSTAMP:20260419T211121
CREATED:20260320T202921Z
LAST-MODIFIED:20260320T202921Z
UID:10136-1777057200-1777068000@deejaysfamousribs.com
SUMMARY:Karaoke
DESCRIPTION:Karaoke at Dee Jays Collier on April 24th starting at 7pm
URL:https://deejaysfamousribs.com/calendar/karaoke-2/
LOCATION:Dee Jays Collier\, PA\, United States
CATEGORIES:Collier
END:VEVENT
BEGIN:VEVENT
DTSTART;TZID=America/New_York:20260501T200000
DTEND;TZID=America/New_York:20260501T220000
DTSTAMP:20260419T211121
CREATED:20260320T203157Z
LAST-MODIFIED:20260320T203157Z
UID:10138-1777665600-1777672800@deejaysfamousribs.com
SUMMARY:Trivia
DESCRIPTION:Trivia at Dee Jays Collier on May 1st starting at 8pm
URL:https://deejaysfamousribs.com/calendar/trivia-2/
LOCATION:Dee Jays Collier\, PA\, United States
CATEGORIES:Collier
END:VEVENT
BEGIN:VEVENT
DTSTART;TZID=America/New_York:20260502T190000
DTEND;TZID=America/New_York:20260502T220000
DTSTAMP:20260419T211121
CREATED:20260331T151923Z
LAST-MODIFIED:20260409T135743Z
UID:10177-1777748400-1777759200@deejaysfamousribs.com
SUMMARY:Dystopia Rock Band
DESCRIPTION:TIMES: Entry Time: 6:00 PM / Show Time: 7:00 PM\nDESCRIPTION: Dee Jay’s Lounge and Encore Concerts proudly present Dystopia Rock Band – live in concert on Saturday\, May 2\, 2026. Event entry begins at 6:00 PM and the show starts at 7:00 PM. Advance tickets are available now at Etix.com or via the link on this listing. Any remaining tickets will be available for purchase at the door on the day of the show\, beginning at the time of entry. Cash and most electronic forms of payment are accepted at this venue. This event is open to all ages. Valid identification is required to purchase or consume alcohol. Free parking is available to attendees in the venue’s parking lot. All sales are final. No refunds\, exchanges\, or transfers unless the event is canceled\, postponed\, or rescheduled.\nTICKET PRICE(S): $12 Advance / $15 Day of Show\nETIX TICKET LINK: https://www.etix.com/ticket/p/73101764/dystopia-rock-band-pittsburgh-dee-jays-lounge\nFACEBOOK EVENT LINK: https://www.facebook.com/events/2145916869585418
URL:https://deejaysfamousribs.com/calendar/dystopia-rock-band/
LOCATION:Dee Jays Murrysville\, 111 Blue Spruce Way\, Murrysville\, PA\, 15668\, United States
CATEGORIES:Murrysville
ATTACH;FMTTYPE=image/jpeg:https://deejaysfamousribs.com/wp-content/uploads/2026/03/dystopia-deejays-may2.jpg
END:VEVENT
BEGIN:VEVENT
DTSTART;TZID=America/New_York:20260508T200000
DTEND;TZID=America/New_York:20260508T220000
DTSTAMP:20260419T211121
CREATED:20260320T203303Z
LAST-MODIFIED:20260320T203303Z
UID:10140-1778270400-1778277600@deejaysfamousribs.com
SUMMARY:Brad Wagner
DESCRIPTION:Live music at Dee Jays Collier May 8th with Brad Wagner
URL:https://deejaysfamousribs.com/calendar/brad-wagner/
LOCATION:Dee Jays Collier\, PA\, United States
CATEGORIES:Collier
END:VEVENT
BEGIN:VEVENT
DTSTART;TZID=America/New_York:20260509T190000
DTEND;TZID=America/New_York:20260509T220000
DTSTAMP:20260419T211121
CREATED:20260331T152112Z
LAST-MODIFIED:20260409T135717Z
UID:10180-1778353200-1778364000@deejaysfamousribs.com
SUMMARY:Saddle Up - The Area's Hottest Country Rock Band
DESCRIPTION:TIMES: Entry Time: 6:00 PM / Show Time: 7:00 PM\nDESCRIPTION: Dee Jay’s Lounge and Encore Concerts proudly present Saddle Up – The Area’s Hottest Country Rock Band – live in concert on Saturday\, May 9\, 2026. Event entry begins at 6:00 PM and the show starts at 7:00 PM. Advance tickets are available now at Etix.com or via the link on this listing. Any remaining tickets will be available for purchase at the door on the day of the show\, beginning at the time of entry. Cash and most electronic forms of payment are accepted at this venue. This event is open to all ages. Valid identification is required to purchase or consume alcohol. Free parking is available to attendees in the venue’s parking lot. All sales are final. No refunds\, exchanges\, or transfers unless the event is canceled\, postponed\, or rescheduled.\nTICKET PRICE(S): $12 Advance / $15 Day of Show\nETIX TICKET LINK: https://www.etix.com/ticket/p/36174618/saddle-up-the-areas-hottest-country-rock-band-pittsburgh-dee-jays-lounge\nFACEBOOK EVENT LINK: https://www.facebook.com/events/2107690096737842
URL:https://deejaysfamousribs.com/calendar/saddle-up-the-areas-hottest-country-rock-band/
LOCATION:Dee Jays Murrysville\, 111 Blue Spruce Way\, Murrysville\, PA\, 15668\, United States
CATEGORIES:Murrysville
ATTACH;FMTTYPE=image/jpeg:https://deejaysfamousribs.com/wp-content/uploads/2026/03/deejays-may9-saddleup.jpg
END:VEVENT
BEGIN:VEVENT
DTSTART;TZID=America/New_York:20260510T130000
DTEND;TZID=America/New_York:20260510T150000
DTSTAMP:20260419T211121
CREATED:20260320T203550Z
LAST-MODIFIED:20260320T203550Z
UID:10142-1778418000-1778425200@deejaysfamousribs.com
SUMMARY:Cat Tedder
DESCRIPTION:Live music at Dee Jays Collier with Cat Tedder on May 10th at 1pm
URL:https://deejaysfamousribs.com/calendar/cat-tedder/
LOCATION:Dee Jays Collier\, PA\, United States
CATEGORIES:Collier
END:VEVENT
BEGIN:VEVENT
DTSTART;TZID=America/New_York:20260515T200000
DTEND;TZID=America/New_York:20260515T220000
DTSTAMP:20260419T211121
CREATED:20260320T203714Z
LAST-MODIFIED:20260320T203714Z
UID:10144-1778875200-1778882400@deejaysfamousribs.com
SUMMARY:Timothy Earl
DESCRIPTION:Live music at dee jays Collier with Timothy Earl on May 15th at 8pm
URL:https://deejaysfamousribs.com/calendar/timothy-earl/
LOCATION:Dee Jays Collier\, PA\, United States
CATEGORIES:Collier
END:VEVENT
BEGIN:VEVENT
DTSTART;TZID=America/New_York:20260516T190000
DTEND;TZID=America/New_York:20260516T220000
DTSTAMP:20260419T211121
CREATED:20260402T180619Z
LAST-MODIFIED:20260409T135543Z
UID:10193-1778958000-1778968800@deejaysfamousribs.com
SUMMARY:Dancing Queen - Pittsburgh's Hottest Live Disco Tribute Party Band
DESCRIPTION:TIMES: Entry Time: 6:00 PM / Show Time: 7:00 PM\nDESCRIPTION: Dee Jay’s Lounge and Encore Concerts proudly present Dancing Queen – Pittsburgh’s Hottest Live Disco Tribute Party Band – live in concert on Saturday\, May 16\, 2026. Event entry begins at 6:00 PM and the show starts at 7:00 PM. Advance tickets are available now at Etix.com or via the link on this listing. Any remaining tickets will be available for purchase at the door on the day of the show\, beginning at the time of entry. Cash and most electronic forms of payment are accepted at this venue. This event is open to all ages. Valid identification is required to purchase or consume alcohol. Free parking is available to attendees in the venue’s parking lot. All sales are final. No refunds\, exchanges\, or transfers unless the event is canceled\, postponed\, or rescheduled.\nTICKET PRICE(S): $12 Advance / $15 Day of Show\nETIX TICKET LINK: https://www.etix.com/ticket/p/61138024/dancing-queen-pittsburghs-hottest-live-disco-tribute-party-band-pittsburgh-dee-jays-lounge\nFACEBOOK EVENT LINK: https://www.facebook.com/events/25868266989541954
URL:https://deejaysfamousribs.com/calendar/dancing-queen-pittsburghs-hottest-live-disco-tribute-party-band-2/
LOCATION:Dee Jays Murrysville\, 111 Blue Spruce Way\, Murrysville\, PA\, 15668\, United States
ATTACH;FMTTYPE=image/jpeg:https://deejaysfamousribs.com/wp-content/uploads/2026/04/dee-jays-murrysville-may16-dancing-queen.jpg
END:VEVENT
BEGIN:VEVENT
DTSTART;TZID=America/New_York:20260517T130000
DTEND;TZID=America/New_York:20260517T150000
DTSTAMP:20260419T211121
CREATED:20260320T203826Z
LAST-MODIFIED:20260320T203826Z
UID:10146-1779022800-1779030000@deejaysfamousribs.com
SUMMARY:Jake Rubenstein
DESCRIPTION:Live music with Jake Rubenstein on May 17 at 1pm
URL:https://deejaysfamousribs.com/calendar/jake-rubenstein/
LOCATION:Dee Jays Collier\, PA\, United States
CATEGORIES:Collier
END:VEVENT
BEGIN:VEVENT
DTSTART;TZID=America/New_York:20260522T200000
DTEND;TZID=America/New_York:20260522T220000
DTSTAMP:20260419T211121
CREATED:20260320T203945Z
LAST-MODIFIED:20260320T203945Z
UID:10148-1779480000-1779487200@deejaysfamousribs.com
SUMMARY:Kevin Latshaw
DESCRIPTION:Live music at Dee Jays Collier with Kevin Latshaw on May 22 starting at 8pm
URL:https://deejaysfamousribs.com/calendar/kevin-latshaw/
LOCATION:Dee Jays Collier\, PA\, United States
CATEGORIES:Collier
END:VEVENT
BEGIN:VEVENT
DTSTART;TZID=America/New_York:20260523T190000
DTEND;TZID=America/New_York:20260523T220000
DTSTAMP:20260419T211121
CREATED:20260331T152304Z
LAST-MODIFIED:20260409T135508Z
UID:10183-1779562800-1779573600@deejaysfamousribs.com
SUMMARY:Yachtness Monster - The Yacht Rock Experience
DESCRIPTION:TIMES: Entry Time: 6:00 PM / Show Time: 7:00 PM\nDESCRIPTION: Dee Jay’s Lounge and Encore Concerts proudly present Yachtness Monster – The Yacht Rock Experience – live in concert on Saturday\, May 23\, 2026. Event entry begins at 6:00 PM and the show starts at 7:00 PM. Advance tickets are available now at Etix.com or via the link on this listing. Any remaining tickets will be available for purchase at the door on the day of the show\, beginning at the time of entry. Cash and most electronic forms of payment are accepted at this venue. This event is open to all ages. Valid identification is required to purchase or consume alcohol. Free parking is available to attendees in the venue’s parking lot. All sales are final. No refunds\, exchanges\, or transfers unless the event is canceled\, postponed\, or rescheduled.\nTICKET PRICE(S): $12 Advance / $15 Day of Show\nETIX TICKET LINK: https://www.etix.com/ticket/p/86394599/yachtness-monster-the-yacht-rock-experience-pittsburgh-dee-jays-lounge\nFACEBOOK EVENT LINK: https://www.facebook.com/events/1608529633713467
URL:https://deejaysfamousribs.com/calendar/yachtness-monster-the-yacht-rock-experience/
LOCATION:Dee Jays Murrysville\, 111 Blue Spruce Way\, Murrysville\, PA\, 15668\, United States
CATEGORIES:Murrysville
ATTACH;FMTTYPE=image/jpeg:https://deejaysfamousribs.com/wp-content/uploads/2026/03/deejays-may23-yachtness.jpg
END:VEVENT
BEGIN:VEVENT
DTSTART;TZID=America/New_York:20260524T130000
DTEND;TZID=America/New_York:20260524T150000
DTSTAMP:20260419T211121
CREATED:20260320T204115Z
LAST-MODIFIED:20260320T204115Z
UID:10150-1779627600-1779634800@deejaysfamousribs.com
SUMMARY:Jay Wiley
DESCRIPTION:Live music with Jay Wiley at Dee Jays Collier on May 24 at 1pm
URL:https://deejaysfamousribs.com/calendar/jay-wiley/
LOCATION:Dee Jays Collier\, PA\, United States
CATEGORIES:Collier
END:VEVENT
BEGIN:VEVENT
DTSTART;TZID=America/New_York:20260529T190000
DTEND;TZID=America/New_York:20260529T220000
DTSTAMP:20260419T211121
CREATED:20260320T204222Z
LAST-MODIFIED:20260320T204222Z
UID:10152-1780081200-1780092000@deejaysfamousribs.com
SUMMARY:Karaoke
DESCRIPTION:Karaoke at Dee Jays in Collier on May 29th starting at 7pm
URL:https://deejaysfamousribs.com/calendar/karaoke-3/
LOCATION:Dee Jays Collier\, PA\, United States
CATEGORIES:Collier
END:VEVENT
BEGIN:VEVENT
DTSTART;TZID=America/New_York:20260613T190000
DTEND;TZID=America/New_York:20260613T220000
DTSTAMP:20260419T211121
CREATED:20260402T180758Z
LAST-MODIFIED:20260409T135442Z
UID:10196-1781377200-1781388000@deejaysfamousribs.com
SUMMARY:Glitz
DESCRIPTION:TIMES: Entry Time: 6:00 PM / Show Time: 7:00 PM\nDESCRIPTION: Dee Jay’s Lounge and Encore Concerts proudly present Glitz – Rock the way you like it – live in concert on Saturday\, June 13\, 2026. Event entry begins at 6:00 PM and the show starts at 7:00 PM. Advance tickets are available now at Etix.com or via the link on this listing. Any remaining tickets will be available for purchase at the door on the day of the show\, beginning at the time of entry. Cash and most electronic forms of payment are accepted at this venue. This event is open to all ages. Valid identification is required to purchase or consume alcohol. Free parking is available to attendees in the venue’s parking lot. All sales are final. No refunds\, exchanges\, or transfers unless the event is canceled\, postponed\, or rescheduled.\nTICKET PRICE(S): $12 Advance / $15 Day of Show\nETIX TICKET LINK: https://www.etix.com/ticket/p/78637424/glitz-pittsburgh-dee-jays-lounge\nFACEBOOK EVENT LINK: https://www.facebook.com/events/1299241472101157
URL:https://deejaysfamousribs.com/calendar/glitz/
LOCATION:Dee Jays Murrysville\, 111 Blue Spruce Way\, Murrysville\, PA\, 15668\, United States
CATEGORIES:Murrysville
ATTACH;FMTTYPE=image/jpeg:https://deejaysfamousribs.com/wp-content/uploads/2026/04/dee-jays-glitz-june13.jpg
END:VEVENT
BEGIN:VEVENT
DTSTART;TZID=America/New_York:20260627T190000
DTEND;TZID=America/New_York:20260627T220000
DTSTAMP:20260419T211121
CREATED:20260402T180912Z
LAST-MODIFIED:20260409T135415Z
UID:10200-1782586800-1782597600@deejaysfamousribs.com
SUMMARY:Bon Journey - The Best of Bon Jovi & Journey
DESCRIPTION:TIMES: Entry Time: 6:00 PM / Show Time: 7:00 PM\nDESCRIPTION: Dee Jay’s Lounge and Encore Concerts proudly present Bon Journey – The Best of Bon Jovi & Journey – live in concert on Saturday\, June 27\, 2026. Event entry begins at 6:00 PM and the show starts at 7:00 PM. Advance tickets are available now at Etix.com or via the link on this listing. Any remaining tickets will be available for purchase at the door on the day of the show\, beginning at the time of entry. Cash and most electronic forms of payment are accepted at this venue. This event is open to all ages. Valid identification is required to purchase or consume alcohol. Free parking is available to attendees in the venue’s parking lot. All sales are final. No refunds\, exchanges\, or transfers unless the event is canceled\, postponed\, or rescheduled.\nTICKET PRICE(S): $15 Advance / $20 Day of Show\nETIX TICKET LINK: https://www.etix.com/ticket/p/63292824/bon-journey-the-best-of-bon-jovi-journey-pittsburgh-dee-jays-lounge\nFACEBOOK EVENT LINK: https://www.facebook.com/events/2676220902756516
URL:https://deejaysfamousribs.com/calendar/bon-journey-the-best-of-bon-jovi-journey/
LOCATION:Dee Jays Murrysville\, 111 Blue Spruce Way\, Murrysville\, PA\, 15668\, United States
CATEGORIES:Murrysville
ATTACH;FMTTYPE=image/jpeg:https://deejaysfamousribs.com/wp-content/uploads/2026/04/bon-journey-dee-jays-june27.jpg
END:VEVENT
BEGIN:VEVENT
DTSTART;TZID=America/New_York:20260829T190000
DTEND;TZID=America/New_York:20260829T220000
DTSTAMP:20260419T211121
CREATED:20260302T191031Z
LAST-MODIFIED:20260409T135400Z
UID:10114-1788030000-1788040800@deejaysfamousribs.com
SUMMARY:ARENA DAZE - The Arena Rock Experience
DESCRIPTION:TIMES: Entry Time: 6:00 PM / Show Time: 7:00 PM\nDESCRIPTION: Dee Jay’s Lounge and Encore Concerts proudly present ARENA DAZE – The Arena Rock Experience – live in concert on Saturday\, August 29\, 2026. Event entry begins at 7:00 PM and the show will begin at 8:00 PM. Advance tickets are available now at Etix.com or via the link on this listing. Any remaining tickets will be available for purchase at the door on the day of the show\, beginning at the time of entry. Cash and most electronic forms of payment are accepted at this venue. This event is open to all ages. Valid identification is required to purchase or consume alcohol. Free parking is available to attendees in the venue’s parking lot. All sales are final. No refunds\, exchanges\, or transfers unless the event is canceled\, postponed\, or rescheduled.\nTICKET PRICE(S): $12 Advance / $15 Day of Show\nETIX TICKET LINK: https://www.etix.com/ticket/p/77787393/arena-daze-the-arena-rock-experience-pittsburgh-dee-jays-lounge\nFACEBOOK EVENT LINK: https://www.facebook.com/events/902539862581935
URL:https://deejaysfamousribs.com/calendar/arena-daze-the-arena-rock-experience/
LOCATION:Dee Jays Murrysville\, 111 Blue Spruce Way\, Murrysville\, PA\, 15668\, United States
CATEGORIES:Murrysville
ATTACH;FMTTYPE=image/jpeg:https://deejaysfamousribs.com/wp-content/uploads/2026/03/arena-daze-august29-dee-jays.jpg
END:VEVENT
BEGIN:VEVENT
DTSTART;TZID=America/New_York:20260926T190000
DTEND;TZID=America/New_York:20260926T220000
DTSTAMP:20260419T211121
CREATED:20260331T152631Z
LAST-MODIFIED:20260409T135347Z
UID:10186-1790449200-1790460000@deejaysfamousribs.com
SUMMARY:Journey Thru The Ages
DESCRIPTION:TIMES: Entry Time: 6:00 PM / Show Time: 7:00 PM\nDESCRIPTION: Dee Jay’s Lounge and Encore Concerts proudly present Journey Thru The Ages – Performing Journey\, Styx\, Foreigner\, REO Speedwagon\, and More – live in concert on Saturday\, September 26\, 2026. Event entry begins at 6:00 PM and the show starts at 7:00 PM. Advance tickets are available now at Etix.com or via the link on this listing. Any remaining tickets will be available for purchase at the door on the day of the show\, beginning at the time of entry. Cash and most electronic forms of payment are accepted at this venue. This event is open to all ages. Valid identification is required to purchase or consume alcohol. Free parking is available to attendees in the venue’s parking lot. All sales are final. No refunds\, exchanges\, or transfers unless the event is canceled\, postponed\, or rescheduled.\nTICKET PRICE(S): $12 Advance / $15 Day of Show\nETIX TICKET LINK: https://www.etix.com/ticket/p/38174978/journey-thru-the-ages-pittsburgh-dee-jays-lounge\nFACEBOOK EVENT LINK: https://www.facebook.com/events/3095683044130364
URL:https://deejaysfamousribs.com/calendar/journey-thru-the-ages/
LOCATION:Dee Jays Murrysville\, 111 Blue Spruce Way\, Murrysville\, PA\, 15668\, United States
CATEGORIES:Murrysville
ATTACH;FMTTYPE=image/jpeg:https://deejaysfamousribs.com/wp-content/uploads/2026/03/deejays-journey-ages-sept26.jpg
END:VEVENT
END:VCALENDAR